BEGIN:VCALENDAR
VERSION:2.0
PRODID:spatie/icalendar-generator
DESCRIPTION:Events from Drive Viper
X-WR-CALDESC:Events from Drive Viper
REFRESH-INTERVAL;VALUE=DURATION:PT1440M
X-PUBLISHED-TTL:PT1440M
BEGIN:VTIMEZONE
TZID:Etc/GMT+0
BEGIN:STANDARD
DTSTART:20220919T000000Z
TZOFFSETFROM:+0000
TZOFFSETTO:+0000
END:STANDARD
END:VTIMEZONE
BEGIN:VTIMEZONE
TZID:UTC
BEGIN:STANDARD
DTSTART:20250728T101706Z
TZOFFSETFROM:+0000
TZOFFSETTO:+0000
END:STANDARD
END:VTIMEZONE
BEGIN:VEVENT
UID:27-25
DTSTAMP:20260424T101706Z
SUMMARY:Return To the Bourbon Trail
LOCATION:
ORGANIZER;CN=Rusty Ranney:MAILTO:rustylites@earthlink.net
DTSTART;TZID=Etc/GMT+0;VALUE=DATE:20230616
DTEND;TZID=Etc/GMT+0;VALUE=DATE:20230619
X-ALT-DESC;FMTTYPE=TEXT/HTML:When: Jun 16th 2023 - Jun 18th 2023 Where: Ken
 tucky Multiple day event. Fri/Sat/Sun We had a very successful fun trip du
 ring the pandemic. With the re-opening of many of the top brand
CATEGORIES:Midwest - Ohio
URL;VALUE=URI:https://driveviper.com/mc-events/return-to-the-bourbon-trail/
METHOD:PUBLISH
END:VEVENT
END:VCALENDAR